BEGIN:VCALENDAR
VERSION:2.0
PRODID:-//Library Market//iCal Export//EN
BEGIN:VEVENT
SUMMARY:Readers Theater Set-Up
UID:18200
DTSTAMP:20260422T212400Z
DTSTART:20260421T200000Z
DTEND:20260421T213000Z
LOCATION:Shaler North Hills Library, 1822 Mt Royal Boulevard, Glenshaw, PA
  15116, United States
ROOM: Community Room--Left Side
DESCRIPTION:
URL:https://shaler.librarycalendar.com/event/readers-theater-set-18200
END:VEVENT
END:VCALENDAR
