BEGIN:VCALENDAR
VERSION:2.0
PRODID:-//Library Market//iCal Export//EN
BEGIN:VEVENT
SUMMARY:private use - Riccelli
UID:18258
DTSTAMP:20260425T132200Z
DTSTART:20260417T174500Z
DTEND:20260417T193000Z
LOCATION:Shaler North Hills Library, 1822 Mt Royal Boulevard, Glenshaw, PA
  15116, United States
ROOM: Quiet Study Room
DESCRIPTION:
URL:https://shaler.librarycalendar.com/event/private-use-riccelli-18258
END:VEVENT
END:VCALENDAR
