BEGIN:VCALENDAR
VERSION:2.0
PRODID:-//Library Market//iCal Export//EN
BEGIN:VEVENT
SUMMARY:private use - Lee
UID:18321
DTSTAMP:20260423T041800Z
DTSTART:20260420T193000Z
DTEND:20260420T220000Z
LOCATION:Shaler North Hills Library, 1822 Mt Royal Boulevard, Glenshaw, PA
  15116, United States
ROOM: Yates Room
DESCRIPTION:
URL:https://shaler.librarycalendar.com/event/private-use-lee-18321
END:VEVENT
END:VCALENDAR
