BEGIN:VCALENDAR
VERSION:2.0
PRODID:-//Library Market//iCal Export//EN
BEGIN:VEVENT
SUMMARY:Private Use
UID:18336
DTSTAMP:20260423T041800Z
DTSTART:20260421T140000Z
DTEND:20260421T160000Z
LOCATION:Shaler North Hills Library, 1822 Mt Royal Boulevard, Glenshaw, PA
  15116, United States
ROOM: Conference Room
DESCRIPTION:
URL:https://shaler.librarycalendar.com/event/private-use-18336
END:VEVENT
END:VCALENDAR
